BEGIN:VCALENDAR
VERSION:2.0
PRODID:-//Emmanuel Lutheran Church Lancaster - ECPv6.9.1//NONSGML v1.0//EN
CALSCALE:GREGORIAN
METHOD:PUBLISH
X-WR-CALNAME:Emmanuel Lutheran Church Lancaster
X-ORIGINAL-URL:https://elclancpa.org
X-WR-CALDESC:Events for Emmanuel Lutheran Church Lancaster
REFRESH-INTERVAL;VALUE=DURATION:PT1H
X-Robots-Tag:noindex
X-PUBLISHED-TTL:PT1H
BEGIN:VTIMEZONE
TZID:UTC
BEGIN:STANDARD
TZOFFSETFROM:+0000
TZOFFSETTO:+0000
TZNAME:UTC
DTSTART:20260101T000000
END:STANDARD
END:VTIMEZONE
BEGIN:VEVENT
DTSTART;TZID=UTC:20260421T190000
DTEND;TZID=UTC:20260421T210000
DTSTAMP:20260421T222848
CREATED:20240810T004911Z
LAST-MODIFIED:20240810T004911Z
UID:10001657-1776798000-1776805200@elclancpa.org
SUMMARY:Church Council Meeting
DESCRIPTION:Meeting will be held in the Fireside Room.
URL:https://elclancpa.org/event/church-council-meeting/2026-04-21/
END:VEVENT
END:VCALENDAR