BEGIN:VCALENDAR
VERSION:2.0
PRODID:-//Emmanuel Lutheran Church Lancaster - ECPv6.9.1//NONSGML v1.0//EN
CALSCALE:GREGORIAN
METHOD:PUBLISH
X-ORIGINAL-URL:https://elclancpa.org
X-WR-CALDESC:Events for Emmanuel Lutheran Church Lancaster
REFRESH-INTERVAL;VALUE=DURATION:PT1H
X-Robots-Tag:noindex
X-PUBLISHED-TTL:PT1H
BEGIN:VTIMEZONE
TZID:UTC
BEGIN:STANDARD
TZOFFSETFROM:+0000
TZOFFSETTO:+0000
TZNAME:UTC
DTSTART:20250101T000000
END:STANDARD
TZID:America/New_York
BEGIN:DAYLIGHT
TZOFFSETFROM:-0500
TZOFFSETTO:-0400
TZNAME:EDT
DTSTART:20250309T070000
END:DAYLIGHT
BEGIN:STANDARD
TZOFFSETFROM:-0400
TZOFFSETTO:-0500
TZNAME:EST
DTSTART:20251102T060000
END:STANDARD
END:VTIMEZONE
BEGIN:VEVENT
DTSTART;TZID=UTC:20250122T130000
DTEND;TZID=UTC:20250122T160000
DTSTAMP:20260421T204145
CREATED:20240809T074752Z
LAST-MODIFIED:20240809T075310Z
UID:10001284-1737550800-1737561600@elclancpa.org
SUMMARY:Pastor Tim Sadler's Office Hours
DESCRIPTION:
URL:https://elclancpa.org/event/476/2025-01-22/
END:VEVENT
BEGIN:VEVENT
DTSTART;TZID=America/New_York:20250126T090000
DTEND;TZID=America/New_York:20250126T100000
DTSTAMP:20260421T204145
CREATED:20240827T005006Z
LAST-MODIFIED:20240827T010853Z
UID:10001913-1737882000-1737885600@elclancpa.org
SUMMARY:Adult Sunday School
DESCRIPTION:Everyone is invited to attend Adult Sunday School in the Fireside Room.
URL:https://elclancpa.org/event/adult-sunday-school-14/2025-01-26/
END:VEVENT
BEGIN:VEVENT
DTSTART;TZID=UTC:20250126T101500
DTEND;TZID=UTC:20250126T113000
DTSTAMP:20260421T204145
CREATED:20240810T012712Z
LAST-MODIFIED:20240827T011600Z
UID:10001724-1737886500-1737891000@elclancpa.org
SUMMARY:Sunday Service
DESCRIPTION:
URL:https://elclancpa.org/event/sunday-service-2/2025-01-26/
ATTACH;FMTTYPE=image/webp:https://elclancpa.org/wp-content/uploads/2024/05/services-header.webp
END:VEVENT
BEGIN:VEVENT
DTSTART;TZID=UTC:20250129T130000
DTEND;TZID=UTC:20250129T160000
DTSTAMP:20260421T204145
CREATED:20240809T074752Z
LAST-MODIFIED:20240809T075310Z
UID:10001285-1738155600-1738166400@elclancpa.org
SUMMARY:Pastor Tim Sadler's Office Hours
DESCRIPTION:
URL:https://elclancpa.org/event/476/2025-01-29/
END:VEVENT
BEGIN:VEVENT
DTSTART;TZID=America/New_York:20250202T090000
DTEND;TZID=America/New_York:20250202T100000
DTSTAMP:20260421T204145
CREATED:20240827T005006Z
LAST-MODIFIED:20240827T010853Z
UID:10001914-1738486800-1738490400@elclancpa.org
SUMMARY:Adult Sunday School
DESCRIPTION:Everyone is invited to attend Adult Sunday School in the Fireside Room.
URL:https://elclancpa.org/event/adult-sunday-school-14/2025-02-02/
END:VEVENT
BEGIN:VEVENT
DTSTART;TZID=UTC:20250202T101500
DTEND;TZID=UTC:20250202T113000
DTSTAMP:20260421T204145
CREATED:20240810T012712Z
LAST-MODIFIED:20240827T011600Z
UID:10001725-1738491300-1738495800@elclancpa.org
SUMMARY:Sunday Service
DESCRIPTION:
URL:https://elclancpa.org/event/sunday-service-2/2025-02-02/
ATTACH;FMTTYPE=image/webp:https://elclancpa.org/wp-content/uploads/2024/05/services-header.webp
END:VEVENT
BEGIN:VEVENT
DTSTART;TZID=America/New_York:20250205T111500
DTEND;TZID=America/New_York:20250205T123000
DTSTAMP:20260421T204145
CREATED:20240911T185558Z
LAST-MODIFIED:20240911T185558Z
UID:10001936-1738754100-1738758600@elclancpa.org
SUMMARY:Social Ministry Committee
DESCRIPTION:All meetings follow Wednesday weekly Bible study.
URL:https://elclancpa.org/event/social-ministry-committee-2/2025-02-05/
END:VEVENT
BEGIN:VEVENT
DTSTART;TZID=UTC:20250205T130000
DTEND;TZID=UTC:20250205T160000
DTSTAMP:20260421T204145
CREATED:20240809T074752Z
LAST-MODIFIED:20240809T075310Z
UID:10001286-1738760400-1738771200@elclancpa.org
SUMMARY:Pastor Tim Sadler's Office Hours
DESCRIPTION:
URL:https://elclancpa.org/event/476/2025-02-05/
END:VEVENT
BEGIN:VEVENT
DTSTART;TZID=America/New_York:20250209T090000
DTEND;TZID=America/New_York:20250209T100000
DTSTAMP:20260421T204145
CREATED:20240827T005006Z
LAST-MODIFIED:20240827T010853Z
UID:10001915-1739091600-1739095200@elclancpa.org
SUMMARY:Adult Sunday School
DESCRIPTION:Everyone is invited to attend Adult Sunday School in the Fireside Room.
URL:https://elclancpa.org/event/adult-sunday-school-14/2025-02-09/
END:VEVENT
BEGIN:VEVENT
DTSTART;TZID=UTC:20250209T101500
DTEND;TZID=UTC:20250209T113000
DTSTAMP:20260421T204145
CREATED:20240810T012712Z
LAST-MODIFIED:20240827T011600Z
UID:10001726-1739096100-1739100600@elclancpa.org
SUMMARY:Sunday Service
DESCRIPTION:
URL:https://elclancpa.org/event/sunday-service-2/2025-02-09/
ATTACH;FMTTYPE=image/webp:https://elclancpa.org/wp-content/uploads/2024/05/services-header.webp
END:VEVENT
BEGIN:VEVENT
DTSTART;TZID=America/New_York:20250212T080000
DTEND;TZID=America/New_York:20250212T090000
DTSTAMP:20260421T204145
CREATED:20241016T192911Z
LAST-MODIFIED:20241016T192943Z
UID:10002024-1739347200-1739350800@elclancpa.org
SUMMARY:Men's Breakfast Group
DESCRIPTION:The Men’s Breakfast will meet today at the Lyndon City Diner on Manheim Pike\, at 8:00 a.m. \nFuture Breakfasts will be the second Wednesday of the month\, same time and location.
URL:https://elclancpa.org/event/mens-breakfast-group/2025-02-12/
END:VEVENT
BEGIN:VEVENT
DTSTART;TZID=UTC:20250212T130000
DTEND;TZID=UTC:20250212T160000
DTSTAMP:20260421T204145
CREATED:20240809T074752Z
LAST-MODIFIED:20240809T075310Z
UID:10001287-1739365200-1739376000@elclancpa.org
SUMMARY:Pastor Tim Sadler's Office Hours
DESCRIPTION:
URL:https://elclancpa.org/event/476/2025-02-12/
END:VEVENT
BEGIN:VEVENT
DTSTART;TZID=America/New_York:20250216T090000
DTEND;TZID=America/New_York:20250216T100000
DTSTAMP:20260421T204145
CREATED:20240827T005006Z
LAST-MODIFIED:20240827T010853Z
UID:10001916-1739696400-1739700000@elclancpa.org
SUMMARY:Adult Sunday School
DESCRIPTION:Everyone is invited to attend Adult Sunday School in the Fireside Room.
URL:https://elclancpa.org/event/adult-sunday-school-14/2025-02-16/
END:VEVENT
BEGIN:VEVENT
DTSTART;TZID=UTC:20250216T101500
DTEND;TZID=UTC:20250216T113000
DTSTAMP:20260421T204145
CREATED:20240810T012712Z
LAST-MODIFIED:20240827T011600Z
UID:10001727-1739700900-1739705400@elclancpa.org
SUMMARY:Sunday Service
DESCRIPTION:
URL:https://elclancpa.org/event/sunday-service-2/2025-02-16/
ATTACH;FMTTYPE=image/webp:https://elclancpa.org/wp-content/uploads/2024/05/services-header.webp
END:VEVENT
BEGIN:VEVENT
DTSTART;TZID=UTC:20250218T190000
DTEND;TZID=UTC:20250218T210000
DTSTAMP:20260421T204145
CREATED:20240810T004911Z
LAST-MODIFIED:20240810T004911Z
UID:10001643-1739905200-1739912400@elclancpa.org
SUMMARY:Church Council Meeting
DESCRIPTION:Meeting will be held in the Fireside Room.
URL:https://elclancpa.org/event/church-council-meeting/2025-02-18/
END:VEVENT
BEGIN:VEVENT
DTSTART;TZID=UTC:20250219T130000
DTEND;TZID=UTC:20250219T160000
DTSTAMP:20260421T204145
CREATED:20240809T074752Z
LAST-MODIFIED:20240809T075310Z
UID:10001288-1739970000-1739980800@elclancpa.org
SUMMARY:Pastor Tim Sadler's Office Hours
DESCRIPTION:
URL:https://elclancpa.org/event/476/2025-02-19/
END:VEVENT
BEGIN:VEVENT
DTSTART;TZID=UTC:20250220T100000
DTEND;TZID=UTC:20250220T113000
DTSTAMP:20260421T204145
CREATED:20240817T174743Z
LAST-MODIFIED:20240817T174743Z
UID:10001748-1740045600-1740051000@elclancpa.org
SUMMARY:Gutenberg Gab Book Club
DESCRIPTION:
URL:https://elclancpa.org/event/gutenberg-gab-book-club-2-2/2025-02-20/
ATTACH;FMTTYPE=image/webp:https://elclancpa.org/wp-content/uploads/2024/08/printing-5692209_1280.webp
END:VEVENT
BEGIN:VEVENT
DTSTART;TZID=America/New_York:20250223T090000
DTEND;TZID=America/New_York:20250223T100000
DTSTAMP:20260421T204145
CREATED:20240827T005006Z
LAST-MODIFIED:20240827T010853Z
UID:10001917-1740301200-1740304800@elclancpa.org
SUMMARY:Adult Sunday School
DESCRIPTION:Everyone is invited to attend Adult Sunday School in the Fireside Room.
URL:https://elclancpa.org/event/adult-sunday-school-14/2025-02-23/
END:VEVENT
BEGIN:VEVENT
DTSTART;TZID=UTC:20250223T101500
DTEND;TZID=UTC:20250223T113000
DTSTAMP:20260421T204145
CREATED:20240810T012712Z
LAST-MODIFIED:20240827T011600Z
UID:10001728-1740305700-1740310200@elclancpa.org
SUMMARY:Sunday Service
DESCRIPTION:
URL:https://elclancpa.org/event/sunday-service-2/2025-02-23/
ATTACH;FMTTYPE=image/webp:https://elclancpa.org/wp-content/uploads/2024/05/services-header.webp
END:VEVENT
BEGIN:VEVENT
DTSTART;TZID=UTC:20250226T130000
DTEND;TZID=UTC:20250226T160000
DTSTAMP:20260421T204145
CREATED:20240809T074752Z
LAST-MODIFIED:20240809T075310Z
UID:10001289-1740574800-1740585600@elclancpa.org
SUMMARY:Pastor Tim Sadler's Office Hours
DESCRIPTION:
URL:https://elclancpa.org/event/476/2025-02-26/
END:VEVENT
BEGIN:VEVENT
DTSTART;TZID=America/New_York:20250302T090000
DTEND;TZID=America/New_York:20250302T100000
DTSTAMP:20260421T204145
CREATED:20240827T005006Z
LAST-MODIFIED:20240827T010853Z
UID:10001918-1740906000-1740909600@elclancpa.org
SUMMARY:Adult Sunday School
DESCRIPTION:Everyone is invited to attend Adult Sunday School in the Fireside Room.
URL:https://elclancpa.org/event/adult-sunday-school-14/2025-03-02/
END:VEVENT
BEGIN:VEVENT
DTSTART;TZID=UTC:20250302T101500
DTEND;TZID=UTC:20250302T113000
DTSTAMP:20260421T204145
CREATED:20240810T012712Z
LAST-MODIFIED:20240827T011600Z
UID:10001729-1740910500-1740915000@elclancpa.org
SUMMARY:Sunday Service
DESCRIPTION:
URL:https://elclancpa.org/event/sunday-service-2/2025-03-02/
ATTACH;FMTTYPE=image/webp:https://elclancpa.org/wp-content/uploads/2024/05/services-header.webp
END:VEVENT
BEGIN:VEVENT
DTSTART;TZID=America/New_York:20250305T111500
DTEND;TZID=America/New_York:20250305T123000
DTSTAMP:20260421T204145
CREATED:20240911T185558Z
LAST-MODIFIED:20240911T185558Z
UID:10001937-1741173300-1741177800@elclancpa.org
SUMMARY:Social Ministry Committee
DESCRIPTION:All meetings follow Wednesday weekly Bible study.
URL:https://elclancpa.org/event/social-ministry-committee-2/2025-03-05/
END:VEVENT
BEGIN:VEVENT
DTSTART;TZID=UTC:20250305T130000
DTEND;TZID=UTC:20250305T160000
DTSTAMP:20260421T204145
CREATED:20240809T074752Z
LAST-MODIFIED:20240809T075310Z
UID:10001290-1741179600-1741190400@elclancpa.org
SUMMARY:Pastor Tim Sadler's Office Hours
DESCRIPTION:
URL:https://elclancpa.org/event/476/2025-03-05/
END:VEVENT
BEGIN:VEVENT
DTSTART;TZID=America/New_York:20250309T090000
DTEND;TZID=America/New_York:20250309T100000
DTSTAMP:20260421T204145
CREATED:20240827T005006Z
LAST-MODIFIED:20240827T010853Z
UID:10001919-1741510800-1741514400@elclancpa.org
SUMMARY:Adult Sunday School
DESCRIPTION:Everyone is invited to attend Adult Sunday School in the Fireside Room.
URL:https://elclancpa.org/event/adult-sunday-school-14/2025-03-09/
END:VEVENT
BEGIN:VEVENT
DTSTART;TZID=UTC:20250309T101500
DTEND;TZID=UTC:20250309T113000
DTSTAMP:20260421T204145
CREATED:20240810T012712Z
LAST-MODIFIED:20240827T011600Z
UID:10001730-1741515300-1741519800@elclancpa.org
SUMMARY:Sunday Service
DESCRIPTION:
URL:https://elclancpa.org/event/sunday-service-2/2025-03-09/
ATTACH;FMTTYPE=image/webp:https://elclancpa.org/wp-content/uploads/2024/05/services-header.webp
END:VEVENT
BEGIN:VEVENT
DTSTART;TZID=America/New_York:20250312T080000
DTEND;TZID=America/New_York:20250312T090000
DTSTAMP:20260421T204145
CREATED:20241016T192911Z
LAST-MODIFIED:20241016T192943Z
UID:10002025-1741766400-1741770000@elclancpa.org
SUMMARY:Men's Breakfast Group
DESCRIPTION:The Men’s Breakfast will meet today at the Lyndon City Diner on Manheim Pike\, at 8:00 a.m. \nFuture Breakfasts will be the second Wednesday of the month\, same time and location.
URL:https://elclancpa.org/event/mens-breakfast-group/2025-03-12/
END:VEVENT
BEGIN:VEVENT
DTSTART;TZID=UTC:20250312T130000
DTEND;TZID=UTC:20250312T160000
DTSTAMP:20260421T204145
CREATED:20240809T074752Z
LAST-MODIFIED:20240809T075310Z
UID:10001291-1741784400-1741795200@elclancpa.org
SUMMARY:Pastor Tim Sadler's Office Hours
DESCRIPTION:
URL:https://elclancpa.org/event/476/2025-03-12/
END:VEVENT
BEGIN:VEVENT
DTSTART;TZID=America/New_York:20250316T090000
DTEND;TZID=America/New_York:20250316T100000
DTSTAMP:20260421T204145
CREATED:20240827T005006Z
LAST-MODIFIED:20240827T010853Z
UID:10001920-1742115600-1742119200@elclancpa.org
SUMMARY:Adult Sunday School
DESCRIPTION:Everyone is invited to attend Adult Sunday School in the Fireside Room.
URL:https://elclancpa.org/event/adult-sunday-school-14/2025-03-16/
END:VEVENT
BEGIN:VEVENT
DTSTART;TZID=UTC:20250316T101500
DTEND;TZID=UTC:20250316T113000
DTSTAMP:20260421T204145
CREATED:20240810T012712Z
LAST-MODIFIED:20240827T011600Z
UID:10001731-1742120100-1742124600@elclancpa.org
SUMMARY:Sunday Service
DESCRIPTION:
URL:https://elclancpa.org/event/sunday-service-2/2025-03-16/
ATTACH;FMTTYPE=image/webp:https://elclancpa.org/wp-content/uploads/2024/05/services-header.webp
END:VEVENT
END:VCALENDAR