BEGIN:VCALENDAR
VERSION:2.0
PRODID:-//Emmanuel Lutheran Church Lancaster - ECPv6.9.1//NONSGML v1.0//EN
CALSCALE:GREGORIAN
METHOD:PUBLISH
X-ORIGINAL-URL:https://elclancpa.org
X-WR-CALDESC:Events for Emmanuel Lutheran Church Lancaster
REFRESH-INTERVAL;VALUE=DURATION:PT1H
X-Robots-Tag:noindex
X-PUBLISHED-TTL:PT1H
BEGIN:VTIMEZONE
TZID:UTC
BEGIN:STANDARD
TZOFFSETFROM:+0000
TZOFFSETTO:+0000
TZNAME:UTC
DTSTART:20250101T000000
END:STANDARD
TZID:America/New_York
BEGIN:DAYLIGHT
TZOFFSETFROM:-0500
TZOFFSETTO:-0400
TZNAME:EDT
DTSTART:20260308T070000
END:DAYLIGHT
BEGIN:STANDARD
TZOFFSETFROM:-0400
TZOFFSETTO:-0500
TZNAME:EST
DTSTART:20261101T060000
END:STANDARD
END:VTIMEZONE
BEGIN:VEVENT
DTSTART;TZID=UTC:20251224T130000
DTEND;TZID=UTC:20251224T160000
DTSTAMP:20260424T031635
CREATED:20240809T074752Z
LAST-MODIFIED:20240809T075310Z
UID:10001332-1766581200-1766592000@elclancpa.org
SUMMARY:Pastor Tim Sadler's Office Hours
DESCRIPTION:
URL:https://elclancpa.org/event/476/2025-12-24/
END:VEVENT
BEGIN:VEVENT
DTSTART;TZID=UTC:20251231T130000
DTEND;TZID=UTC:20251231T160000
DTSTAMP:20260424T031635
CREATED:20240809T074752Z
LAST-MODIFIED:20240809T075310Z
UID:10001333-1767186000-1767196800@elclancpa.org
SUMMARY:Pastor Tim Sadler's Office Hours
DESCRIPTION:
URL:https://elclancpa.org/event/476/2025-12-31/
END:VEVENT
BEGIN:VEVENT
DTSTART;TZID=UTC:20260107T130000
DTEND;TZID=UTC:20260107T160000
DTSTAMP:20260424T031635
CREATED:20240809T074752Z
LAST-MODIFIED:20240809T075310Z
UID:10001334-1767790800-1767801600@elclancpa.org
SUMMARY:Pastor Tim Sadler's Office Hours
DESCRIPTION:
URL:https://elclancpa.org/event/476/2026-01-07/
END:VEVENT
BEGIN:VEVENT
DTSTART;TZID=America/New_York:20260114T080000
DTEND;TZID=America/New_York:20260114T090000
DTSTAMP:20260424T031635
CREATED:20241016T192911Z
LAST-MODIFIED:20241016T192943Z
UID:10002035-1768377600-1768381200@elclancpa.org
SUMMARY:Men's Breakfast Group
DESCRIPTION:The Men’s Breakfast will meet today at the Lyndon City Diner on Manheim Pike\, at 8:00 a.m. \nFuture Breakfasts will be the second Wednesday of the month\, same time and location.
URL:https://elclancpa.org/event/mens-breakfast-group/2026-01-14/
END:VEVENT
BEGIN:VEVENT
DTSTART;TZID=UTC:20260114T130000
DTEND;TZID=UTC:20260114T160000
DTSTAMP:20260424T031635
CREATED:20240809T074752Z
LAST-MODIFIED:20240809T075310Z
UID:10001335-1768395600-1768406400@elclancpa.org
SUMMARY:Pastor Tim Sadler's Office Hours
DESCRIPTION:
URL:https://elclancpa.org/event/476/2026-01-14/
END:VEVENT
BEGIN:VEVENT
DTSTART;TZID=UTC:20260115T100000
DTEND;TZID=UTC:20260115T113000
DTSTAMP:20260424T031635
CREATED:20240817T174743Z
LAST-MODIFIED:20240817T174743Z
UID:10001759-1768471200-1768476600@elclancpa.org
SUMMARY:Gutenberg Gab Book Club
DESCRIPTION:
URL:https://elclancpa.org/event/gutenberg-gab-book-club-2-2/2026-01-15/
ATTACH;FMTTYPE=image/webp:https://elclancpa.org/wp-content/uploads/2024/08/printing-5692209_1280.webp
END:VEVENT
BEGIN:VEVENT
DTSTART;TZID=UTC:20260120T190000
DTEND;TZID=UTC:20260120T210000
DTSTAMP:20260424T031635
CREATED:20240810T004911Z
LAST-MODIFIED:20240810T004911Z
UID:10001654-1768935600-1768942800@elclancpa.org
SUMMARY:Church Council Meeting
DESCRIPTION:Meeting will be held in the Fireside Room.
URL:https://elclancpa.org/event/church-council-meeting/2026-01-20/
END:VEVENT
BEGIN:VEVENT
DTSTART;TZID=UTC:20260121T130000
DTEND;TZID=UTC:20260121T160000
DTSTAMP:20260424T031635
CREATED:20240809T074752Z
LAST-MODIFIED:20240809T075310Z
UID:10001336-1769000400-1769011200@elclancpa.org
SUMMARY:Pastor Tim Sadler's Office Hours
DESCRIPTION:
URL:https://elclancpa.org/event/476/2026-01-21/
END:VEVENT
BEGIN:VEVENT
DTSTART;TZID=UTC:20260128T130000
DTEND;TZID=UTC:20260128T160000
DTSTAMP:20260424T031635
CREATED:20240809T074752Z
LAST-MODIFIED:20240809T075310Z
UID:10001337-1769605200-1769616000@elclancpa.org
SUMMARY:Pastor Tim Sadler's Office Hours
DESCRIPTION:
URL:https://elclancpa.org/event/476/2026-01-28/
END:VEVENT
BEGIN:VEVENT
DTSTART;TZID=UTC:20260204T130000
DTEND;TZID=UTC:20260204T160000
DTSTAMP:20260424T031635
CREATED:20240809T074752Z
LAST-MODIFIED:20240809T075310Z
UID:10001338-1770210000-1770220800@elclancpa.org
SUMMARY:Pastor Tim Sadler's Office Hours
DESCRIPTION:
URL:https://elclancpa.org/event/476/2026-02-04/
END:VEVENT
BEGIN:VEVENT
DTSTART;TZID=America/New_York:20260211T080000
DTEND;TZID=America/New_York:20260211T090000
DTSTAMP:20260424T031635
CREATED:20241016T192911Z
LAST-MODIFIED:20241016T192943Z
UID:10002036-1770796800-1770800400@elclancpa.org
SUMMARY:Men's Breakfast Group
DESCRIPTION:The Men’s Breakfast will meet today at the Lyndon City Diner on Manheim Pike\, at 8:00 a.m. \nFuture Breakfasts will be the second Wednesday of the month\, same time and location.
URL:https://elclancpa.org/event/mens-breakfast-group/2026-02-11/
END:VEVENT
BEGIN:VEVENT
DTSTART;TZID=UTC:20260211T130000
DTEND;TZID=UTC:20260211T160000
DTSTAMP:20260424T031635
CREATED:20240809T074752Z
LAST-MODIFIED:20240809T075310Z
UID:10001339-1770814800-1770825600@elclancpa.org
SUMMARY:Pastor Tim Sadler's Office Hours
DESCRIPTION:
URL:https://elclancpa.org/event/476/2026-02-11/
END:VEVENT
BEGIN:VEVENT
DTSTART;TZID=UTC:20260217T190000
DTEND;TZID=UTC:20260217T210000
DTSTAMP:20260424T031635
CREATED:20240810T004911Z
LAST-MODIFIED:20240810T004911Z
UID:10001655-1771354800-1771362000@elclancpa.org
SUMMARY:Church Council Meeting
DESCRIPTION:Meeting will be held in the Fireside Room.
URL:https://elclancpa.org/event/church-council-meeting/2026-02-17/
END:VEVENT
BEGIN:VEVENT
DTSTART;TZID=UTC:20260218T130000
DTEND;TZID=UTC:20260218T160000
DTSTAMP:20260424T031635
CREATED:20240809T074752Z
LAST-MODIFIED:20240809T075310Z
UID:10001340-1771419600-1771430400@elclancpa.org
SUMMARY:Pastor Tim Sadler's Office Hours
DESCRIPTION:
URL:https://elclancpa.org/event/476/2026-02-18/
END:VEVENT
BEGIN:VEVENT
DTSTART;TZID=UTC:20260219T100000
DTEND;TZID=UTC:20260219T113000
DTSTAMP:20260424T031635
CREATED:20240817T174743Z
LAST-MODIFIED:20240817T174743Z
UID:10001760-1771495200-1771500600@elclancpa.org
SUMMARY:Gutenberg Gab Book Club
DESCRIPTION:
URL:https://elclancpa.org/event/gutenberg-gab-book-club-2-2/2026-02-19/
ATTACH;FMTTYPE=image/webp:https://elclancpa.org/wp-content/uploads/2024/08/printing-5692209_1280.webp
END:VEVENT
BEGIN:VEVENT
DTSTART;TZID=UTC:20260225T130000
DTEND;TZID=UTC:20260225T160000
DTSTAMP:20260424T031635
CREATED:20240809T074752Z
LAST-MODIFIED:20240809T075310Z
UID:10001341-1772024400-1772035200@elclancpa.org
SUMMARY:Pastor Tim Sadler's Office Hours
DESCRIPTION:
URL:https://elclancpa.org/event/476/2026-02-25/
END:VEVENT
BEGIN:VEVENT
DTSTART;TZID=UTC:20260304T130000
DTEND;TZID=UTC:20260304T160000
DTSTAMP:20260424T031635
CREATED:20240809T074752Z
LAST-MODIFIED:20240809T075310Z
UID:10001342-1772629200-1772640000@elclancpa.org
SUMMARY:Pastor Tim Sadler's Office Hours
DESCRIPTION:
URL:https://elclancpa.org/event/476/2026-03-04/
END:VEVENT
BEGIN:VEVENT
DTSTART;TZID=America/New_York:20260311T080000
DTEND;TZID=America/New_York:20260311T090000
DTSTAMP:20260424T031635
CREATED:20241016T192911Z
LAST-MODIFIED:20241016T192943Z
UID:10002037-1773216000-1773219600@elclancpa.org
SUMMARY:Men's Breakfast Group
DESCRIPTION:The Men’s Breakfast will meet today at the Lyndon City Diner on Manheim Pike\, at 8:00 a.m. \nFuture Breakfasts will be the second Wednesday of the month\, same time and location.
URL:https://elclancpa.org/event/mens-breakfast-group/2026-03-11/
END:VEVENT
BEGIN:VEVENT
DTSTART;TZID=UTC:20260311T130000
DTEND;TZID=UTC:20260311T160000
DTSTAMP:20260424T031635
CREATED:20240809T074752Z
LAST-MODIFIED:20240809T075310Z
UID:10001343-1773234000-1773244800@elclancpa.org
SUMMARY:Pastor Tim Sadler's Office Hours
DESCRIPTION:
URL:https://elclancpa.org/event/476/2026-03-11/
END:VEVENT
BEGIN:VEVENT
DTSTART;TZID=UTC:20260317T190000
DTEND;TZID=UTC:20260317T210000
DTSTAMP:20260424T031635
CREATED:20240810T004911Z
LAST-MODIFIED:20240810T004911Z
UID:10001656-1773774000-1773781200@elclancpa.org
SUMMARY:Church Council Meeting
DESCRIPTION:Meeting will be held in the Fireside Room.
URL:https://elclancpa.org/event/church-council-meeting/2026-03-17/
END:VEVENT
BEGIN:VEVENT
DTSTART;TZID=UTC:20260318T130000
DTEND;TZID=UTC:20260318T160000
DTSTAMP:20260424T031635
CREATED:20240809T074752Z
LAST-MODIFIED:20240809T075310Z
UID:10001344-1773838800-1773849600@elclancpa.org
SUMMARY:Pastor Tim Sadler's Office Hours
DESCRIPTION:
URL:https://elclancpa.org/event/476/2026-03-18/
END:VEVENT
BEGIN:VEVENT
DTSTART;TZID=UTC:20260319T100000
DTEND;TZID=UTC:20260319T113000
DTSTAMP:20260424T031635
CREATED:20240817T174743Z
LAST-MODIFIED:20240817T174743Z
UID:10001761-1773914400-1773919800@elclancpa.org
SUMMARY:Gutenberg Gab Book Club
DESCRIPTION:
URL:https://elclancpa.org/event/gutenberg-gab-book-club-2-2/2026-03-19/
ATTACH;FMTTYPE=image/webp:https://elclancpa.org/wp-content/uploads/2024/08/printing-5692209_1280.webp
END:VEVENT
BEGIN:VEVENT
DTSTART;TZID=UTC:20260325T130000
DTEND;TZID=UTC:20260325T160000
DTSTAMP:20260424T031635
CREATED:20240809T074752Z
LAST-MODIFIED:20240809T075310Z
UID:10001345-1774443600-1774454400@elclancpa.org
SUMMARY:Pastor Tim Sadler's Office Hours
DESCRIPTION:
URL:https://elclancpa.org/event/476/2026-03-25/
END:VEVENT
BEGIN:VEVENT
DTSTART;TZID=UTC:20260401T130000
DTEND;TZID=UTC:20260401T160000
DTSTAMP:20260424T031635
CREATED:20240809T074752Z
LAST-MODIFIED:20240809T075310Z
UID:10001346-1775048400-1775059200@elclancpa.org
SUMMARY:Pastor Tim Sadler's Office Hours
DESCRIPTION:
URL:https://elclancpa.org/event/476/2026-04-01/
END:VEVENT
BEGIN:VEVENT
DTSTART;TZID=America/New_York:20260408T080000
DTEND;TZID=America/New_York:20260408T090000
DTSTAMP:20260424T031635
CREATED:20241016T192911Z
LAST-MODIFIED:20241016T192943Z
UID:10002038-1775635200-1775638800@elclancpa.org
SUMMARY:Men's Breakfast Group
DESCRIPTION:The Men’s Breakfast will meet today at the Lyndon City Diner on Manheim Pike\, at 8:00 a.m. \nFuture Breakfasts will be the second Wednesday of the month\, same time and location.
URL:https://elclancpa.org/event/mens-breakfast-group/2026-04-08/
END:VEVENT
BEGIN:VEVENT
DTSTART;TZID=UTC:20260408T130000
DTEND;TZID=UTC:20260408T160000
DTSTAMP:20260424T031635
CREATED:20240809T074752Z
LAST-MODIFIED:20240809T075310Z
UID:10001347-1775653200-1775664000@elclancpa.org
SUMMARY:Pastor Tim Sadler's Office Hours
DESCRIPTION:
URL:https://elclancpa.org/event/476/2026-04-08/
END:VEVENT
BEGIN:VEVENT
DTSTART;TZID=UTC:20260415T130000
DTEND;TZID=UTC:20260415T160000
DTSTAMP:20260424T031635
CREATED:20240809T074752Z
LAST-MODIFIED:20240809T075310Z
UID:10001348-1776258000-1776268800@elclancpa.org
SUMMARY:Pastor Tim Sadler's Office Hours
DESCRIPTION:
URL:https://elclancpa.org/event/476/2026-04-15/
END:VEVENT
BEGIN:VEVENT
DTSTART;TZID=UTC:20260416T100000
DTEND;TZID=UTC:20260416T113000
DTSTAMP:20260424T031635
CREATED:20240817T174743Z
LAST-MODIFIED:20240817T174743Z
UID:10001762-1776333600-1776339000@elclancpa.org
SUMMARY:Gutenberg Gab Book Club
DESCRIPTION:
URL:https://elclancpa.org/event/gutenberg-gab-book-club-2-2/2026-04-16/
ATTACH;FMTTYPE=image/webp:https://elclancpa.org/wp-content/uploads/2024/08/printing-5692209_1280.webp
END:VEVENT
BEGIN:VEVENT
DTSTART;TZID=UTC:20260421T190000
DTEND;TZID=UTC:20260421T210000
DTSTAMP:20260424T031635
CREATED:20240810T004911Z
LAST-MODIFIED:20240810T004911Z
UID:10001657-1776798000-1776805200@elclancpa.org
SUMMARY:Church Council Meeting
DESCRIPTION:Meeting will be held in the Fireside Room.
URL:https://elclancpa.org/event/church-council-meeting/2026-04-21/
END:VEVENT
BEGIN:VEVENT
DTSTART;TZID=UTC:20260422T130000
DTEND;TZID=UTC:20260422T160000
DTSTAMP:20260424T031635
CREATED:20240809T074752Z
LAST-MODIFIED:20240809T075310Z
UID:10001349-1776862800-1776873600@elclancpa.org
SUMMARY:Pastor Tim Sadler's Office Hours
DESCRIPTION:
URL:https://elclancpa.org/event/476/2026-04-22/
END:VEVENT
END:VCALENDAR